BEGIN:VCALENDAR
VERSION:2.0
PRODID:-//Tukios.com/
BEGIN:VEVENT
UID:c0728e22-82c8-4a4d-8649-6c524e120e91@www.boonefh.com
DTSTAMP:20260422T004914Z
DTSTART:20260424T170000Z
DTEND:20260424T190000Z
SUMMARY:Celebration of Life
DESCRIPTION:
URL:https://www.boonefh.com/obituaries/debra-gray
LOCATION: 2156 Airline Drive  Bossier LA 71111
GEO:32.5387519;-93.7074615
END:VEVENT
END:VCALENDAR